BEGIN:VCALENDAR
VERSION:2.0
PRODID:-//Saint Sulpice Active et Citoyenne - ECPv6.15.20//NONSGML v1.0//EN
CALSCALE:GREGORIAN
METHOD:PUBLISH
X-WR-CALNAME:Saint Sulpice Active et Citoyenne
X-ORIGINAL-URL:https://stsulpice-active-citoyenne.fr
X-WR-CALDESC:Évènements pour Saint Sulpice Active et Citoyenne
REFRESH-INTERVAL;VALUE=DURATION:PT1H
X-Robots-Tag:noindex
X-PUBLISHED-TTL:PT1H
BEGIN:VTIMEZONE
TZID:Europe/Paris
BEGIN:DAYLIGHT
TZOFFSETFROM:+0100
TZOFFSETTO:+0200
TZNAME:CEST
DTSTART:20170326T010000
END:DAYLIGHT
BEGIN:STANDARD
TZOFFSETFROM:+0200
TZOFFSETTO:+0100
TZNAME:CET
DTSTART:20171029T010000
END:STANDARD
BEGIN:DAYLIGHT
TZOFFSETFROM:+0100
TZOFFSETTO:+0200
TZNAME:CEST
DTSTART:20180325T010000
END:DAYLIGHT
BEGIN:STANDARD
TZOFFSETFROM:+0200
TZOFFSETTO:+0100
TZNAME:CET
DTSTART:20181028T010000
END:STANDARD
BEGIN:DAYLIGHT
TZOFFSETFROM:+0100
TZOFFSETTO:+0200
TZNAME:CEST
DTSTART:20190331T010000
END:DAYLIGHT
BEGIN:STANDARD
TZOFFSETFROM:+0200
TZOFFSETTO:+0100
TZNAME:CET
DTSTART:20191027T010000
END:STANDARD
BEGIN:DAYLIGHT
TZOFFSETFROM:+0100
TZOFFSETTO:+0200
TZNAME:CEST
DTSTART:20200329T010000
END:DAYLIGHT
BEGIN:STANDARD
TZOFFSETFROM:+0200
TZOFFSETTO:+0100
TZNAME:CET
DTSTART:20201025T010000
END:STANDARD
BEGIN:DAYLIGHT
TZOFFSETFROM:+0100
TZOFFSETTO:+0200
TZNAME:CEST
DTSTART:20210328T010000
END:DAYLIGHT
BEGIN:STANDARD
TZOFFSETFROM:+0200
TZOFFSETTO:+0100
TZNAME:CET
DTSTART:20211031T010000
END:STANDARD
BEGIN:DAYLIGHT
TZOFFSETFROM:+0100
TZOFFSETTO:+0200
TZNAME:CEST
DTSTART:20220327T010000
END:DAYLIGHT
BEGIN:STANDARD
TZOFFSETFROM:+0200
TZOFFSETTO:+0100
TZNAME:CET
DTSTART:20221030T010000
END:STANDARD
END:VTIMEZONE
BEGIN:VEVENT
DTSTART;TZID=Europe/Paris:20210725T093000
DTEND;TZID=Europe/Paris:20210725T120000
DTSTAMP:20260422T040132
CREATED:20210720T113740Z
LAST-MODIFIED:20210720T114018Z
UID:3952-1627205400-1627214400@stsulpice-active-citoyenne.fr
SUMMARY:Vél'Hôpital
DESCRIPTION:Quoi de plus sécurisant qu’un vélo bien réglé pour vos ballades estivales et vos parcours du quotidien. \nVenez au prochain vél’hôpital sur l’esplanade Octave Médale. \nA bientôt !
URL:https://stsulpice-active-citoyenne.fr/evenement/velhopital-5/
LOCATION:Place du marché\, Espl. Octave Médale\, Saint Sulpice La Pointe\, 81370\, France
CATEGORIES:Vél'hôpital
END:VEVENT
BEGIN:VEVENT
DTSTART;TZID=Europe/Paris:20200929T183000
DTEND;TZID=Europe/Paris:20200929T233000
DTSTAMP:20260422T040132
CREATED:20200925T194223Z
LAST-MODIFIED:20200928T202351Z
UID:3832-1601404200-1601422200@stsulpice-active-citoyenne.fr
SUMMARY:Conseil Municipal Saint Sulpice La Pointe
DESCRIPTION:Conseil municipal le 29 septembre à 18h30 Salle Georges Spénale (salle du conseil municipal)
URL:https://stsulpice-active-citoyenne.fr/evenement/conseil-municipal-saint-sulpice-la-pointe-2/
LOCATION:Mairie\, Parc Georges Spénale\, Saint Sulpice La Pointe\, 81370
END:VEVENT
BEGIN:VEVENT
DTSTART;TZID=Europe/Paris:20200927T093000
DTEND;TZID=Europe/Paris:20200927T120000
DTSTAMP:20260422T040132
CREATED:20200925T192129Z
LAST-MODIFIED:20200925T192129Z
UID:3811-1601199000-1601208000@stsulpice-active-citoyenne.fr
SUMMARY:Vél'Hôpital
DESCRIPTION:Prochain vél’hôpital sur l’esplanade Octave Médale. \nA bientôt !
URL:https://stsulpice-active-citoyenne.fr/evenement/velhopital-4/
CATEGORIES:Vélo citoyen
END:VEVENT
BEGIN:VEVENT
DTSTART;TZID=Europe/Paris:20200919T100000
DTEND;TZID=Europe/Paris:20200919T150000
DTSTAMP:20260422T040132
CREATED:20200808T081216Z
LAST-MODIFIED:20200903T140706Z
UID:3707-1600509600-1600527600@stsulpice-active-citoyenne.fr
SUMMARY:#StopTerra2
DESCRIPTION:⚠️ Retenez la date du 19 SEPTEMBRE 2020 ⚠️ \nLe collectif Stop TERRA 2 organise une fête pleine de surprises contre le projet de plateforme logistique destinée au e-commerce TERRA 2. 🥳 \nRDV le 19 septembre 2020 sur l’aire de covoiturage de l’A68 pour fêter le commerce local et combattre l’installation de Terra 2\, une plateforme logistique de 70 000m² destinée au e-commerce. \n  \n🙋‍♀️🙋‍♂️
URL:https://stsulpice-active-citoyenne.fr/evenement/stopterra2/
END:VEVENT
BEGIN:VEVENT
DTSTART;TZID=Europe/Paris:20200830T093000
DTEND;TZID=Europe/Paris:20200830T120000
DTSTAMP:20260422T040132
CREATED:20200808T081717Z
LAST-MODIFIED:20200808T081839Z
UID:3710-1598779800-1598788800@stsulpice-active-citoyenne.fr
SUMMARY:Vél'Hôpital
DESCRIPTION:Prochain vél’hôpital sur l’esplanade Octave Médale. \nA bientôt !
URL:https://stsulpice-active-citoyenne.fr/evenement/velhopital-3/
CATEGORIES:Vélo citoyen
END:VEVENT
BEGIN:VEVENT
DTSTART;TZID=Europe/Paris:20200702T183000
DTEND;TZID=Europe/Paris:20200702T183000
DTSTAMP:20260422T040132
CREATED:20200928T202547Z
LAST-MODIFIED:20200928T202547Z
UID:3844-1593714600-1593714600@stsulpice-active-citoyenne.fr
SUMMARY:Conseil Communautaire Tarn Agout
DESCRIPTION:Le programme : https://www.cc-tarnagout.fr/IMG/pdf/doc20200925104217.pdf
URL:https://stsulpice-active-citoyenne.fr/evenement/conseil-communautaire-tarn-agout-2/
END:VEVENT
BEGIN:VEVENT
DTSTART;TZID=Europe/Paris:20200702T183000
DTEND;TZID=Europe/Paris:20200702T183000
DTSTAMP:20260422T040132
CREATED:20200630T213232Z
LAST-MODIFIED:20200630T213232Z
UID:3683-1593714600-1593714600@stsulpice-active-citoyenne.fr
SUMMARY:Conseil Communautaire Tarn Agout
DESCRIPTION:Le programme : https://cc-tarnagout.fr/IMG/pdf/reunion_du_conseil_communautaire-2.pdf
URL:https://stsulpice-active-citoyenne.fr/evenement/conseil-communautaire-tarn-agout/
LOCATION:Garrigues\, Salle des fêtes\, Garrigues\, 81500\, France
END:VEVENT
BEGIN:VEVENT
DTSTART;TZID=Europe/Paris:20200701T183000
DTEND;TZID=Europe/Paris:20200701T233000
DTSTAMP:20260422T040132
CREATED:20200630T213012Z
LAST-MODIFIED:20200630T213012Z
UID:3675-1593628200-1593646200@stsulpice-active-citoyenne.fr
SUMMARY:Conseil Municipal Saint Sulpice La Pointe
DESCRIPTION:Le programme : https://www.saintsulpicelapointe.fr/sites/saintsulpicelapointe.fr/www.saintsulpicelapointe.fr/files/inline-files/ODJ0107.pdf
URL:https://stsulpice-active-citoyenne.fr/evenement/conseil-municipal-saint-sulpice-la-pointe/
LOCATION:Mairie\, Parc Georges Spénale\, Saint Sulpice La Pointe\, 81370
END:VEVENT
BEGIN:VEVENT
DTSTART;TZID=Europe/Paris:20200605T180000
DTEND;TZID=Europe/Paris:20200605T200000
DTSTAMP:20260422T040132
CREATED:20200530T205041Z
LAST-MODIFIED:20200605T073722Z
UID:3646-1591380000-1591387200@stsulpice-active-citoyenne.fr
SUMMARY:Conseil Communautaire d'installation
DESCRIPTION:Conseil communautaire d’installation à Garrigues dans la salle des fêtes à 18h00.
URL:https://stsulpice-active-citoyenne.fr/evenement/conseil-communautaire-dinstallation/
LOCATION:Garrigues\, Salle des fêtes\, Garrigues\, 81500\, France
END:VEVENT
BEGIN:VEVENT
DTSTART;TZID=Europe/Paris:20200313T200000
DTEND;TZID=Europe/Paris:20200313T220000
DTSTAMP:20260422T040132
CREATED:20200306T090530Z
LAST-MODIFIED:20200313T145757Z
UID:3406-1584129600-1584136800@stsulpice-active-citoyenne.fr
SUMMARY:// ANNULÉE // Réunion publique participative - 13 mars 2020 // ANNULÉE //
DESCRIPTION:ATTENTION ANNULATION \nCompte tenu de la mesure annoncée par le premier ministre relative au Coronavirus – Covid 19 – nous avons fait le choix\, en conscience d’annuler notre réunion publique.\nSi vous avez des questions que vous aviez prévues de nous poser lors de cette réunion\, contactez-nous via notre facebook ou notre formulaire de contact\, nous nous ferons un plaisir d’y répondre. \nEt le 15 mars\, soyez le changement ! \nL’équipe de St-Sulpice Active et Citoyenne.
URL:https://stsulpice-active-citoyenne.fr/evenement/reunion-publique-participative/
LOCATION:Salle René Cassin\, Place Jean Jaurès\, Saint-Sulpice-la-Pointe\, 81370\, France
CATEGORIES:Municipales 2020
ATTACH;FMTTYPE=image/jpeg:https://stsulpice-active-citoyenne.fr/wp-content/uploads/2020/02/Evenement.jpg
END:VEVENT
BEGIN:VEVENT
DTSTART;TZID=Europe/Paris:20200301T090000
DTEND;TZID=Europe/Paris:20200301T120000
DTSTAMP:20260422T040132
CREATED:20200217T223857Z
LAST-MODIFIED:20200306T090858Z
UID:3256-1583053200-1583064000@stsulpice-active-citoyenne.fr
SUMMARY:La liste SSAC en campagne
DESCRIPTION:Retrouvez nous tous les dimanche matin sur le marché. Venez discuter avec nous des sujets qui vous importent.
URL:https://stsulpice-active-citoyenne.fr/evenement/la-liste-ssac-en-campagne-2/
LOCATION:Place du marché\, Espl. Octave Médale\, Saint Sulpice La Pointe\, 81370\, France
CATEGORIES:Municipales 2020
END:VEVENT
BEGIN:VEVENT
DTSTART;TZID=Europe/Paris:20200227T200000
DTEND;TZID=Europe/Paris:20200227T220000
DTSTAMP:20260422T040132
CREATED:20200217T173211Z
LAST-MODIFIED:20200222T094744Z
UID:3182-1582833600-1582840800@stsulpice-active-citoyenne.fr
SUMMARY:Réunion publique
DESCRIPTION:Saint-Supice Active & Citoyenne mène une liste aux municipales 2020. Venez nous rencontrer à l’occasion de notre première réunion publique\, découvrir notre programme\, la liste\, et débattre avec nous.
URL:https://stsulpice-active-citoyenne.fr/evenement/reunion-publique/
LOCATION:Salle Odette Couderc\, Chemin de la Messale\, Saint-Sulpice-la-Pointe\, 81370\, France
CATEGORIES:Municipales 2020
ATTACH;FMTTYPE=image/jpeg:https://stsulpice-active-citoyenne.fr/wp-content/uploads/2020/02/Evenement.jpg
END:VEVENT
BEGIN:VEVENT
DTSTART;TZID=Europe/Paris:20200223T090000
DTEND;TZID=Europe/Paris:20200223T120000
DTSTAMP:20260422T040132
CREATED:20200217T223542Z
LAST-MODIFIED:20200306T090928Z
UID:3254-1582448400-1582459200@stsulpice-active-citoyenne.fr
SUMMARY:La liste SSAC en campagne
DESCRIPTION:Retrouvez nous tous les dimanche matin sur le marché. Venez discuter avec nous des sujets qui vous importent.
URL:https://stsulpice-active-citoyenne.fr/evenement/la-liste-ssac-en-campagne/
LOCATION:Place du marché\, Espl. Octave Médale\, Saint Sulpice La Pointe\, 81370\, France
CATEGORIES:Municipales 2020
ATTACH;FMTTYPE=image/jpeg:https://stsulpice-active-citoyenne.fr/wp-content/uploads/2020/02/Fly1-Binome-1.jpg
END:VEVENT
BEGIN:VEVENT
DTSTART;VALUE=DATE:20200126
DTEND;VALUE=DATE:20200127
DTSTAMP:20260422T040132
CREATED:20200217T150000Z
LAST-MODIFIED:20200217T223017Z
UID:2769-1579996800-1580083199@stsulpice-active-citoyenne.fr
SUMMARY:Vél'Hôpital
DESCRIPTION:Nouvelle session du vél’hôpital ce dimanche 26 janvier. Venez faire réparer votre vélo et repartez en pédalant ! \n 
URL:https://stsulpice-active-citoyenne.fr/evenement/velhopital-2/
LOCATION:Place du marché\, Espl. Octave Médale\, Saint Sulpice La Pointe\, 81370\, France
CATEGORIES:Vélo citoyen
END:VEVENT
BEGIN:VEVENT
DTSTART;TZID=Europe/Paris:20180624T093000
DTEND;TZID=Europe/Paris:20180624T123000
DTSTAMP:20260422T040132
CREATED:20180603T095136Z
LAST-MODIFIED:20180603T105542Z
UID:698-1529832600-1529843400@stsulpice-active-citoyenne.fr
SUMMARY:Vél'Hôpital
DESCRIPTION:Nouveau rendez-vous du vél’Hôpital. Le principe : un problème de vélo ? Venez rencontrer notre équipe afin de faire réparer votre vélo et surtout prendre des informations son entretien ! Notre équipe sera présente à partir de 9h30. Venez nombreux !!
URL:https://stsulpice-active-citoyenne.fr/evenement/velhopital/
LOCATION:Place du marché\, Espl. Octave Médale\, Saint Sulpice La Pointe\, 81370\, France
ATTACH;FMTTYPE=image/png:https://stsulpice-active-citoyenne.fr/wp-content/uploads/2018/05/Flyers-vélo_02-e1629883081552.png
END:VEVENT
BEGIN:VEVENT
DTSTART;TZID=Europe/Paris:20180616T103000
DTEND;TZID=Europe/Paris:20180616T123000
DTSTAMP:20260422T040132
CREATED:20180603T162445Z
LAST-MODIFIED:20180603T162645Z
UID:712-1529145000-1529152200@stsulpice-active-citoyenne.fr
SUMMARY:Café philo
DESCRIPTION:La médiathèque de La Bastide à Saint Sulpice La Pointe propose un café philo dont le thème est : \n Toutes les cultures sont-elles compatibles ? \n\nLe rendez-vous est gratuit et débute à 10h30.
URL:https://stsulpice-active-citoyenne.fr/evenement/cafe-philo/
LOCATION:médiathèque\, 2 rue du couvent\, Saint-Sulpice-la-Pointe\, 81370\, France
ATTACH;FMTTYPE=application/pdf:https://stsulpice-active-citoyenne.fr/wp-content/uploads/2018/06/cafe_philo_juin.pdf
END:VEVENT
END:VCALENDAR